BEGIN:VCALENDAR
VERSION:2.0
PRODID:-//Ferrari Club of America Mid-Atlantic Region - ECPv6.15.20//NONSGML v1.0//EN
CALSCALE:GREGORIAN
METHOD:PUBLISH
X-ORIGINAL-URL:https://midatlanticr.ferrariclubofamerica.org
X-WR-CALDESC:Events for Ferrari Club of America Mid-Atlantic Region
REFRESH-INTERVAL;VALUE=DURATION:PT1H
X-Robots-Tag:noindex
X-PUBLISHED-TTL:PT1H
BEGIN:VTIMEZONE
TZID:America/New_York
BEGIN:DAYLIGHT
TZOFFSETFROM:-0500
TZOFFSETTO:-0400
TZNAME:EDT
DTSTART:20250309T070000
END:DAYLIGHT
BEGIN:STANDARD
TZOFFSETFROM:-0400
TZOFFSETTO:-0500
TZNAME:EST
DTSTART:20251102T060000
END:STANDARD
BEGIN:DAYLIGHT
TZOFFSETFROM:-0500
TZOFFSETTO:-0400
TZNAME:EDT
DTSTART:20260308T070000
END:DAYLIGHT
BEGIN:STANDARD
TZOFFSETFROM:-0400
TZOFFSETTO:-0500
TZNAME:EST
DTSTART:20261101T060000
END:STANDARD
BEGIN:DAYLIGHT
TZOFFSETFROM:-0500
TZOFFSETTO:-0400
TZNAME:EDT
DTSTART:20270314T070000
END:DAYLIGHT
BEGIN:STANDARD
TZOFFSETFROM:-0400
TZOFFSETTO:-0500
TZNAME:EST
DTSTART:20271107T060000
END:STANDARD
END:VTIMEZONE
BEGIN:VEVENT
DTSTART;TZID=America/New_York:20260607T090000
DTEND;TZID=America/New_York:20260607T113000
DTSTAMP:20260422T101457
CREATED:20260331T201800Z
LAST-MODIFIED:20260331T204300Z
UID:12580-1780822800-1780831800@midatlanticr.ferrariclubofamerica.org
SUMMARY:Monaco Grand Prix Watch Party
DESCRIPTION:Hosted by Ferrari of Washington. Enjoy all of the Formula One action at Monaco from the comfort of the FoW showroom with your FCA-MAR friends.\n\nAdvanced registration is required. Registration info will be provided as soon as it’s available.
URL:https://midatlanticr.ferrariclubofamerica.org/calendar/monaco_grand_prix_watch_party/
CATEGORIES:Mid Atlantic Region
ATTACH;FMTTYPE=image/jpeg:https://midatlanticr.ferrariclubofamerica.org/wp-content/uploads/2026/03/Hamilton-Russell-Leclerc-Ferrari-Mercedes-898419914-e1774988011937.jpg
END:VEVENT
BEGIN:VEVENT
DTSTART;VALUE=DATE:20260613
DTEND;VALUE=DATE:20260614
DTSTAMP:20260422T101457
CREATED:20251231T203203Z
LAST-MODIFIED:20260110T183336Z
UID:12329-1781308800-1781395199@midatlanticr.ferrariclubofamerica.org
SUMMARY:Richmond Collector Car Show and Swap Meet
DESCRIPTION:FCA members are invited to participate in the 57th Annual Richmond Collector Car Show and Swap Meet. Formerly known as “Classics on the Green”\, this is the largest collector car show in the central Virginia region. \nClasses for virtually every make and model will be available with judging by experienced teams. Or participate in the “cruise in”\, where you will enjoy reserved parking in the non-judged show-and-display area\, with freedom to depart the show whenever you wish. \nFor more information\, visit https://richmondcarshow.com/. \nNOTE: This is NOT a Ferrari Club of America event. FCA has been invited to attend by the event organizers.
URL:https://midatlanticr.ferrariclubofamerica.org/calendar/richmond-collector-car-show-and-swap-meet-3/
CATEGORIES:Mid Atlantic Region
ATTACH;FMTTYPE=image/jpeg:https://midatlanticr.ferrariclubofamerica.org/wp-content/uploads/2025/12/Richmond2025bestofshow.jpg
END:VEVENT
BEGIN:VEVENT
DTSTART;VALUE=DATE:20260614
DTEND;VALUE=DATE:20260615
DTSTAMP:20260422T101457
CREATED:20251231T201949Z
LAST-MODIFIED:20260120T213242Z
UID:12326-1781395200-1781481599@midatlanticr.ferrariclubofamerica.org
SUMMARY:Spring Karting
DESCRIPTION:Join the MAR for some driving and competition at United Karting near BWI Airport. We will host a private FCA member session for seat time in a competition kart. The karts provide top level performance for the veteran pilot but are also easy to drive for the beginner. This will be a fun event for anyone learning competitive driving and a natural complement to our Club autocross events! \n\nKarting will take place from 11:30 am to 2:00 pm\, and we will also host a short pre-event rally to the karting track\, starting at 10:00 am in Fulton\, MD. After karting we will adjourn to a local restaurant for lunch. \nNOTE: Even if you are not interested in karting\, you are still welcome and encouraged to join us for the pre-karting drive\, stay to watch the action and join us for lunch! \nFor further information\, please contact Lashdeep Singh\, lashdeep@fca-mar.com.
URL:https://midatlanticr.ferrariclubofamerica.org/calendar/spring-karting-tentative/
CATEGORIES:Mid Atlantic Region
ATTACH;FMTTYPE=image/jpeg:https://midatlanticr.ferrariclubofamerica.org/wp-content/uploads/2025/04/dylan-passing.jpg
END:VEVENT
BEGIN:VEVENT
DTSTART;VALUE=DATE:20260620
DTEND;VALUE=DATE:20260622
DTSTAMP:20260422T101457
CREATED:20251231T194902Z
LAST-MODIFIED:20260110T183319Z
UID:12314-1781913600-1782086399@midatlanticr.ferrariclubofamerica.org
SUMMARY:Blue Ridge Rally (Central VA)
DESCRIPTION:Mountain roads and stunning views provide the perfect backdrop to enjoy your Ferrari. \nWe’ll kick off with a cars & coffee and continental breakfast at the mountain home of Amy & Eric Tich in Afton\, VA. Then we’ll hit the road\, taking in portions of the scenic Blue Ridge Parkway and enjoying some of the best back roads in central VA\, with lunch along the way. \nFor 2026\, we’re expanding this event with an optional dinner and overnight stay (hotel TBD). Watch this space (and your email) for further updates. \nFor any question\, please contact eric.tich@fca-mar.com. \n 
URL:https://midatlanticr.ferrariclubofamerica.org/calendar/blue-ridge-rally-central-va-3/
CATEGORIES:Mid Atlantic Region
ATTACH;FMTTYPE=image/jpeg:https://midatlanticr.ferrariclubofamerica.org/wp-content/uploads/2025/01/blue-ridge-header-scaled.jpg
END:VEVENT
BEGIN:VEVENT
DTSTART;TZID=America/New_York:20260620T090000
DTEND;TZID=America/New_York:20260620T103000
DTSTAMP:20260422T101457
CREATED:20260331T203314Z
LAST-MODIFIED:20260331T203908Z
UID:12591-1781946000-1781951400@midatlanticr.ferrariclubofamerica.org
SUMMARY:Cars & Coffee
DESCRIPTION:Hosted by Ferrari of Washington.\n\nNo advanced registration required. However\, parking in front of the dealership is reserved for Ferrari automobiles.
URL:https://midatlanticr.ferrariclubofamerica.org/calendar/cars-and-coffee-june/
CATEGORIES:Mid Atlantic Region
ATTACH;FMTTYPE=image/jpeg:https://midatlanticr.ferrariclubofamerica.org/wp-content/uploads/2026/03/IMG_5312-scaled.jpg
END:VEVENT
END:VCALENDAR