BEGIN:VCALENDAR
VERSION:2.0
PRODID:-//Ferrari Club of America Mid-Atlantic Region - ECPv6.15.20//NONSGML v1.0//EN
CALSCALE:GREGORIAN
METHOD:PUBLISH
X-ORIGINAL-URL:https://midatlanticr.ferrariclubofamerica.org
X-WR-CALDESC:Events for Ferrari Club of America Mid-Atlantic Region
REFRESH-INTERVAL;VALUE=DURATION:PT1H
X-Robots-Tag:noindex
X-PUBLISHED-TTL:PT1H
BEGIN:VTIMEZONE
TZID:America/New_York
BEGIN:DAYLIGHT
TZOFFSETFROM:-0500
TZOFFSETTO:-0400
TZNAME:EDT
DTSTART:20250309T070000
END:DAYLIGHT
BEGIN:STANDARD
TZOFFSETFROM:-0400
TZOFFSETTO:-0500
TZNAME:EST
DTSTART:20251102T060000
END:STANDARD
BEGIN:DAYLIGHT
TZOFFSETFROM:-0500
TZOFFSETTO:-0400
TZNAME:EDT
DTSTART:20260308T070000
END:DAYLIGHT
BEGIN:STANDARD
TZOFFSETFROM:-0400
TZOFFSETTO:-0500
TZNAME:EST
DTSTART:20261101T060000
END:STANDARD
BEGIN:DAYLIGHT
TZOFFSETFROM:-0500
TZOFFSETTO:-0400
TZNAME:EDT
DTSTART:20270314T070000
END:DAYLIGHT
BEGIN:STANDARD
TZOFFSETFROM:-0400
TZOFFSETTO:-0500
TZNAME:EST
DTSTART:20271107T060000
END:STANDARD
END:VTIMEZONE
BEGIN:VEVENT
DTSTART;TZID=America/New_York:20260705T100000
DTEND;TZID=America/New_York:20260705T123000
DTSTAMP:20260422T114727
CREATED:20260331T202652Z
LAST-MODIFIED:20260331T203930Z
UID:12588-1783245600-1783254600@midatlanticr.ferrariclubofamerica.org
SUMMARY:British Grand Prix Watch Party
DESCRIPTION:Hosted by Ferrari of Washington. Enjoy all of the Formula One action at Silverstone from the comfort of the FoW showroom with your FCA-MAR friends.\n\nAdvanced registration is required. Registration info will be provided as soon as it’s available.
URL:https://midatlanticr.ferrariclubofamerica.org/calendar/british-grand-prix-watch-party/
CATEGORIES:Mid Atlantic Region
ATTACH;FMTTYPE=image/jpeg:https://midatlanticr.ferrariclubofamerica.org/wp-content/uploads/2026/03/Hamilton-Russell-Leclerc-Ferrari-Mercedes-898419914-e1774988011937.jpg
END:VEVENT
BEGIN:VEVENT
DTSTART;TZID=America/New_York:20260718T090000
DTEND;TZID=America/New_York:20260718T103000
DTSTAMP:20260422T114727
CREATED:20260331T203539Z
LAST-MODIFIED:20260331T203944Z
UID:12595-1784365200-1784370600@midatlanticr.ferrariclubofamerica.org
SUMMARY:Cars & Coffee
DESCRIPTION:Hosted by Ferrari of Washington.\n\nNo advanced registration required. However\, parking in front of the dealership is reserved for Ferrari automobiles.
URL:https://midatlanticr.ferrariclubofamerica.org/calendar/cars-coffee-july/
CATEGORIES:Mid Atlantic Region
ATTACH;FMTTYPE=image/jpeg:https://midatlanticr.ferrariclubofamerica.org/wp-content/uploads/2026/03/IMG_5312-scaled.jpg
END:VEVENT
BEGIN:VEVENT
DTSTART;TZID=America/New_York:20260719T090000
DTEND;TZID=America/New_York:20260719T120000
DTSTAMP:20260422T114727
CREATED:20251231T203707Z
LAST-MODIFIED:20251231T211349Z
UID:12334-1784451600-1784462400@midatlanticr.ferrariclubofamerica.org
SUMMARY:Belgian Grand Prix Watch Party (tentative)
DESCRIPTION:Details to be announced.
URL:https://midatlanticr.ferrariclubofamerica.org/calendar/belgian-grand-prix-watch-party-tentative/
CATEGORIES:Mid Atlantic Region
ATTACH;FMTTYPE=image/jpeg:https://midatlanticr.ferrariclubofamerica.org/wp-content/uploads/2025/12/Belgium.jpg
END:VEVENT
BEGIN:VEVENT
DTSTART;VALUE=DATE:20260722
DTEND;VALUE=DATE:20260726
DTSTAMP:20260422T114727
CREATED:20251231T204851Z
LAST-MODIFIED:20260101T205206Z
UID:12338-1784678400-1785023999@midatlanticr.ferrariclubofamerica.org
SUMMARY:Mecum Auctions - Harrisburg\, PA
DESCRIPTION:Mecum Harrisburg is the nearest collector car auction for the majority of FCA-MAR members. Don’t miss this year’s event\, with over 1\,200 cars up for bid. As a national Ferrari Club of America Sponsor\, Mecum offers free Standard Bidder Registration to all FCA Members (a $200 Value). Use the promo code 26FCACLUB at registration. \nClick HERE for more information.
URL:https://midatlanticr.ferrariclubofamerica.org/calendar/mecum-auctions-harrisburg-pa/
CATEGORIES:Mid Atlantic Region
ATTACH;FMTTYPE=image/jpeg:https://midatlanticr.ferrariclubofamerica.org/wp-content/uploads/2025/12/mecum.jpg
END:VEVENT
END:VCALENDAR